BEGIN:VCALENDAR
VERSION:2.0
PRODID:-//Tibet House - ECPv6.15.20//NONSGML v1.0//EN
CALSCALE:GREGORIAN
METHOD:PUBLISH
X-ORIGINAL-URL:https://tibethouse.in
X-WR-CALDESC:Events for Tibet House
REFRESH-INTERVAL;VALUE=DURATION:PT1H
X-Robots-Tag:noindex
X-PUBLISHED-TTL:PT1H
BEGIN:VTIMEZONE
TZID:Asia/Kolkata
BEGIN:STANDARD
TZOFFSETFROM:+0530
TZOFFSETTO:+0530
TZNAME:IST
DTSTART:20200101T000000
END:STANDARD
END:VTIMEZONE
BEGIN:VEVENT
DTSTART;TZID=Asia/Kolkata:20260213T180000
DTEND;TZID=Asia/Kolkata:20260213T200000
DTSTAMP:20260423T201911
CREATED:20260212T094010Z
LAST-MODIFIED:20260212T094010Z
UID:12393-1771005600-1771012800@tibethouse.in
SUMMARY:The Buddhist Foundation of Tibetan Astrology-Special Lecture
DESCRIPTION:
URL:https://tibethouse.in/events/the-buddhist-foundation-of-tibetan-astrology-special-lecture/
LOCATION:Lecture Room – 1\, Annexe Building\, India International Centre (IIC)\, New Delhi\, Lecture Room - 1\, Annexe Building\, India International Centre (IIC)\, New Delhi\, New Delhi\, India
CATEGORIES:Tibet House Event
ORGANIZER;CN="Tibet House%2C Cultural Centre of His Holiness the Dalai Lama":MAILTO:programmes@tibethouse.in
END:VEVENT
BEGIN:VEVENT
DTSTART;VALUE=DATE:20250121
DTEND;VALUE=DATE:20250131
DTSTAMP:20260423T201911
CREATED:20240808T121037Z
LAST-MODIFIED:20241118T113603Z
UID:6813-1737417600-1738281599@tibethouse.in
SUMMARY:Bodhicitta Retreat with Emphasis on Bodhicitta and Wisdom of Emptiness (In Tibetan) at Root Institute\, Bodh Gaya from 21st – 30th Jan 2025
DESCRIPTION:བྱང་ཆུབ་སེམས་དང་སྟོང་ཉིད་ལྟ་བ་ལས་བརྩམས་པའི་མི་ཚེ་ཧྲིལ་པོའི་ཉམས་ལེན་ཞུ་ཐབས་ཀྱི་ཉིན་བཅུའི་སློབ་ཚན་། ༢༠༢༥ ཟླ་ ༡ ཚེས་ ༢༡ ནས་ ༣༠ བར།                   \nBodhicitta Retreat with Emphasis on Bodhicitta and Wisdom of Emptiness (In Tibetan) at Root Institute\, Bodh Gaya from 21st – 30th Jan 2025 \n\n\n\n\n\nTo be led by Ven Geshe Dorji Damdul\, Director\, Tibet House\, New Delhi\n\nRegistration link: https://forms.gle/SEgLMpKqWy32z9qf6\n\nOutstation Study Programmes are specifically designed for those seeking a comprehensive study of Buddhist Philosophy. While Tibet House\, New Delhi has previously organized numerous group study retreats in English\, we are now responding to requests from our Tibetan-speaking audience by hosting a 10-day Bodhicitta Retreat. This retreat\, focusing on Bodhicitta and the Wisdom of Emptiness\, will be conducted in Tibetan at Root Institute\, Bodh Gaya\, from January 21 to 30\, 2025. \nKindly contact Root Institute directly regarding accommodation: \nEmail :  info@rootinstitute.ngo\, Mobile number : 9931518858 \nFor details of accommodation: Click here \nPlease note that the number of rooms available for various types of accommodation is limited. \nCheck in date is 20th January 2025. \n 
URL:https://tibethouse.in/events/bodhicitta-retreat-with-emphasis-on-bodhicitta-and-wisdom-of-emptiness-in-tibetan-at-root-institute-bodh-gaya-from-21st-30th-jan-2025/
LOCATION:Root Institute\, Bodh Gaya\, Bihar
CATEGORIES:Tibet House Event
END:VEVENT
BEGIN:VEVENT
DTSTART;TZID=Asia/Kolkata:20241120T180000
DTEND;TZID=Asia/Kolkata:20241120T200000
DTSTAMP:20260423T201911
CREATED:20241022T121749Z
LAST-MODIFIED:20241022T122104Z
UID:8048-1732125600-1732132800@tibethouse.in
SUMMARY:Special Lecture
DESCRIPTION:Rebirth: A Guide to Mind\, Karma\, and Cosmos in the Buddhist World\nGuest Speaker: Prof. Roger R. Jackson\nEmeritus Professor of Asian Studies and Religion\, Carleton College (Minnesota\, USA)\nVisiting Professor of Buddhism\, Maitripa College (Oregon\, USA) \nConcept Write-Up:\nRebirth\, or reincarnation\, is a foundational concept in Buddhism\, believed by many to define the cyclical existence of sentient beings. It asserts that we have lived before\, and unless we achieve liberation\, we are destined to live again. In this illuminating lecture\, Prof. Roger R. Jackson will: \n\nPlace the Buddhist notion of rebirth in the context of global and South Asian cultures.\nExplore the historical Buddha’s views on rebirth.\nOutline the classical Indian Buddhist description of the realms of rebirth\, its causes\, and the relationship between karma and rebirth.\nPresent traditional Indian Buddhist arguments for rebirth\, including the insights of Dharmakīrti.\nReflect on the role of rebirth in modern Buddhism.\n\nThis lecture offers a unique opportunity to deepen your understanding of how rebirth influences the Buddhist worldview\, both historically and in contemporary practice. \nEvent Details:\n\nDate: Wednesday\, 20th November 2024\nTime: 06:00 PM – 08:00 PM (IST)\nVenue: Lecture Room – 1\, Annexe Building\, India International Centre (IIC)\, New Delhi\nLivestream: Tibet House YouTube Channel\n\nRegistration:\n\nLast Date for Registration: Monday\, 18th November 2024\nRegistration Link: Register Here\n\nAbout the Guest Speaker:\nProf. Roger R. Jackson is an Emeritus Professor of Asian Studies and Religion at Carleton College\, Minnesota\, and a Visiting Professor of Buddhism at Maitripa College\, Oregon. His extensive research covers Indian and Tibetan Buddhist philosophy\, meditation practices\, ritual\, and Buddhist literature. With over eleven books published\, including Rebirth: A Guide to Mind\, Karma\, and Cosmos in the Buddhist World (Shambhala\, 2022)\, Prof. Jackson is a leading voice in modern Buddhist thought. \nHis latest work\, Saraha: Poet of Blissful Awareness\, is set to release this fall through Shambhala Publications\, further solidifying his reputation as a scholar of Buddhist philosophy and literature. \nFor any queries\, contact us at:\n📧 programmes@tibethouse.in\n📞 +91-8447218959 \nFollow us on social media for updates:\n@TibetHouse
URL:https://tibethouse.in/events/special-lecture-on/
LOCATION:Lecture Room – 1\, Annexe Building\, India International Centre (IIC)\, New Delhi\, Lecture Room - 1\, Annexe Building\, India International Centre (IIC)\, New Delhi\, New Delhi\, India
CATEGORIES:Tibet House Event
END:VEVENT
BEGIN:VEVENT
DTSTART;TZID=Asia/Kolkata:20240523T150000
DTEND;TZID=Asia/Kolkata:20240523T193000
DTSTAMP:20260423T201911
CREATED:20240508T064347Z
LAST-MODIFIED:20240522T105356Z
UID:6418-1716476400-1716492600@tibethouse.in
SUMMARY:Buddha Purnima Day (SAGA DAWA): Ceremony of Aspirational Bodhisattva Vows
DESCRIPTION:We are delighted to invite you to join us for a special event on Buddha Purnima Day (SAGA DAWA) – the Ceremony of Aspirational Bodhisattva Vows. This significant ceremony will be led in English by the esteemed Venerable Geshe Dorji Damdul\, Director of Tibet House. \nEvent Details: \n(Change in the timing for the visit to pay homage to the Buddha Relics due to the clash of program )\n\nVisit to Pay Homage to Buddha Relics\n\nDate: Thursday\, 23rd May 2024\nTime: 01:30 PM to 03:00 PM\nLocation: National Museum\, New Delhi\n\n\nCeremony of Aspirational Bodhisattva Vows\n\nDate: Thursday\, 23rd May 2024\nTime: 06:00 PM – 07:30 PM (IST)\nVenue: Conference Hall\, Tibet House\, New Delhi\n\n\n\nThis event is open to the public and also the ceremony will be streamed live in English and Russian Language on our official YouTube Channel: TibetHouseDelhi1965\, allowing individuals from around the world to participate and benefit from this sacred occasion. \nYoutube Live stream links: \n\nTo watch in English: https://youtube.com/live/F5vmbzkNfl4\nTo watch in Russian: https://www.youtube.com/watch?v=uMOQnhHfA3Q\n\nHow to Join : \n\nIn-Person: Attend the ceremony at Conference Hall\, Tibet House\, New Delhi.\nOnline: Join the live stream on our YouTube Channel: TibetHouseDelhi1965.\n\nFor those joining online\, please note the following Webex details: \n\nWebex Link: https://shorturl.at/xvlmW\nPassword: BODHICITTA2024\n\nDon’t miss this opportunity to connect with the teachings of Buddha and deepen your spiritual journey. Spread the word\, invite your friends and family\, and join us as we celebrate Buddha Purnima with reverence and joy. \n 
URL:https://tibethouse.in/events/buddha-purnima-day-saga-dawa/
LOCATION:Conference Hall\, Tibet House New Delhi\, 1\, Institutional Area\, Lodhi road\, NEW DELHI\, Delhi\, 110003\, India
CATEGORIES:Tibet House Event
END:VEVENT
BEGIN:VEVENT
DTSTART;TZID=Asia/Kolkata:20240521T080000
DTEND;TZID=Asia/Kolkata:20240521T170000
DTSTAMP:20260423T201911
CREATED:20240521T044102Z
LAST-MODIFIED:20240521T044542Z
UID:6451-1716278400-1716310800@tibethouse.in
SUMMARY:Buddha Purnima Day (SAGA DAWA) - Change in Timing
DESCRIPTION:Important Update on Timing:\nVisit to Pay Homage to Buddha Relics \n\nDate: Thursday\, 23rd May 2024\nTime: 01:30 PM to 03:00 PM (IST) (Please note the change in timing due to a scheduling clash at the venue)\nLocation: National Museum\, New Delhi
URL:https://tibethouse.in/events/buddha-purnima-day-saga-dawa-change-in-timing/
CATEGORIES:Tibet House Event
END:VEVENT
BEGIN:VEVENT
DTSTART;TZID=Asia/Kolkata:20240510T180000
DTEND;TZID=Asia/Kolkata:20240510T193000
DTSTAMP:20260423T201911
CREATED:20240430T094420Z
LAST-MODIFIED:20240503T095825Z
UID:6382-1715364000-1715369400@tibethouse.in
SUMMARY:Prayer Meet For The Late Shri Pramod Prakash Shrivastav Ji
DESCRIPTION:Brief Introduction of Shri Pramod Prakash Shrivastav Ji: \nIAS (Retd) Shri Pramod Prakash Shrivastav Ji has been a Member of the Governing Body of the Tibet House for over 3 decades now. His last assignment with the Govt of India was as Member of the North Eastern Council in the rank of Union Minister of State\, for around eight and a half years starting from 2005. In fact\, starting from the year 1960\, he has around 35 years experience of postings in the North-East and handling of that Region from the Govt of India. Earlier\, he had served in the Ministry of Home Affairs at all the levels from Director to Spl Secretary for 12 years in 3 tenures (between 1975 and 1992) handling most of the Divisions of the Ministry. His other postings included Chief Secretary of the State of Goa\, Commissioner of the Municipal Corporation of Delhi (1981-86) and also as Adviser to Governor in 3 States (viz.Assam in 1990-91\, Himachal Pradesh in 1993 and Manipur in 1994) for almost one year each during periods of crisis when these States had to be brought under President’s Rule. He had started his service career as a Lecturer in a Govt Degree/PG College for 3 years after obtaining M.Sc. in Chemistry in 1954 from the Rajasthan University securing 1 st Division and 1 st position in the subject in the University. Thereafter he was selected in the IPS in 1960 and later in the IAS while he was in the North East. Shri Shrivastav has been taking keen interest in enhancement of the quality of the three crucial dimensions of human personality\, namely\, the physical\, the intellectual and the spiritual. Activities that he tried to promote all through his service career included Yoga for keeping the body and mind fit and alert; inculcation of human values in the education system for a healthy and progressive mind in the community and grasping the essence of scriptures to gain insight of the soul and over- soul. The wisdom gained by such knowledge will go a long way in shaping of sound character and building of strong foundation on which the human beings can evolve higher and move closer to divinity. This bent of mind brought him closer to the Buddhist philosophy and teachings\, and he became an admirer of His Holiness the Dalai Lama and his teachings of compassion. That brought him in touch with the Tibet House when he got a posting in Delhi in the seventies. That relationship became closer and abiding when he was nominated to the Membership of the Governing Body of Tibet House. \nWe cordially invite you to join us for a prayer meet in remembrance of the late Mr. Shri P.P. Shrivastav\, a revered figure whose contributions and legacy continue to inspire us. Let’s gather together to honor his remarkable life\, share cherished memories\, and offer our prayers for his eternal peace. Your presence will be a source of comfort and strength for all who knew and admired him. Please join us in paying our respects and celebrating the life of a truly remarkable individual. \nDetails for Joining:\n\nDate: Friday\, May 10\, 2024\nTime: 06:00 PM – 07:30 PM\n   WebEx Joining Details:\nMeeting link: https://tibethouse.webex.com/tibethouse/j.php?MTID=m1d84e0cfdfdec665d123946af8664200\n\n         Meeting number: 2515 843 4567\nPassword: Prayer2024\n\nYouTube live Link: https://youtube.com/live/Ut1us31q0Hk?feature=share
URL:https://tibethouse.in/events/prayer-meet-for-the-late-shri-pramod-prakash-shrivastav-ji/
LOCATION:Conference Hall\, Tibet House New Delhi\, 1\, Institutional Area\, Lodhi road\, NEW DELHI\, Delhi\, 110003\, India
CATEGORIES:Tibet House Event
END:VEVENT
BEGIN:VEVENT
DTSTART;TZID=Asia/Kolkata:20231002T180000
DTEND;TZID=Asia/Kolkata:20231002T200000
DTSTAMP:20260423T201911
CREATED:20230920T102624Z
LAST-MODIFIED:20230920T102624Z
UID:5232-1696269600-1696276800@tibethouse.in
SUMMARY:Gandhi Jayanti / Ceremony of Remembrance / Bodhicitta Day Hosted by Tibet House Team
DESCRIPTION:WEBEX DETAILS\n \nGandhi Jayanti / Ceremony of Remembrance / Bodhicitta Day\nHosted by Tibet House Team \nhttps://tibethouse.webex.com/tibethouse/j.php?\n \nMTID=m9ae1a93fb480d68aa80b55fb3edd5ba1\n\nMonday\, October 2\, 2023 6:00 PM | 2 hours | (UTC+05:30) Chennai\, Kolkata\, Mumbai\, New Delhi\n\nMeeting number: 2517 835 5790\n\nPassword: Karuna2023
URL:https://tibethouse.in/events/gandhi-jayanti-ceremony-of-remembrance-bodhicitta-day-hosted-by-tibet-house-team/
LOCATION:Conference Hall\, Tibet House New Delhi\, 1\, Institutional Area\, Lodhi road\, NEW DELHI\, Delhi\, 110003\, India
CATEGORIES:Teachings in English,Tibet House Event
ORGANIZER;CN="Tibet House%2C Cultural Centre of His Holiness the Dalai Lama":MAILTO:programmes@tibethouse.in
END:VEVENT
BEGIN:VEVENT
DTSTART;TZID=Asia/Kolkata:20230716T180000
DTEND;TZID=Asia/Kolkata:20230716T200000
DTSTAMP:20260423T201911
CREATED:20230714T114336Z
LAST-MODIFIED:20230714T114336Z
UID:5099-1689530400-1689537600@tibethouse.in
SUMMARY:LIVING A BALANCED LIFE: GUIDED BY COMPASSION AND WISDOM
DESCRIPTION:Join us for monthly lecture on :\n\nLIVING A BALANCED LIFE: GUIDED BY COMPASSION AND WISDOM\nby Dr. Jon Kolkin\n\n\n\nDATE: SUNDAY\, 16TH JULY 2023\nTIME: 06:00 PM – 08:00 PM (INDIAN TIME)\nVENUE: CONFERENCE HALL\, TIBET HOUSE\n\nThis event will also be live streamed on Tibet House YouTube Channel. \nAbout the Speaker: Dr. Jon Kolkin’s rare set of life experiences make him uniquely qualified to share universally relevant\, science-based\, practical strategies for living a balanced life guided by compassion and wisdom. He is global medical volunteer (20+ years)\, internationally recognised\, award-winning photographer\, accomplished musician\, athlete\, and president of the Shades of Compassion Foundation.\n\n\nHe has had four audiences with the 14th Dalai Lama and has been the principle organiser of numerous compassion-centered initiatives worldwide in collaboration with Representatives of His Holiness and others. His book\, Inner Harmony: Living in Balance\, which includes forwards by the Dalai Lama and Queen Mother of Bhutan\, has received three international book awards.
URL:https://tibethouse.in/events/living-a-balanced-life-guided-by-compassion-and-wisdom/
LOCATION:Conference Hall\, Tibet House New Delhi\, 1\, Institutional Area\, Lodhi road\, NEW DELHI\, Delhi\, 110003\, India
CATEGORIES:Tibet House Event
ORGANIZER;CN="Tibet House%2C Cultural Centre of His Holiness the Dalai Lama":MAILTO:programmes@tibethouse.in
END:VEVENT
BEGIN:VEVENT
DTSTART;TZID=Asia/Kolkata:20230505T180000
DTEND;TZID=Asia/Kolkata:20230505T200000
DTSTAMP:20260423T201911
CREATED:20230412T042417Z
LAST-MODIFIED:20230412T042417Z
UID:4858-1683309600-1683316800@tibethouse.in
SUMMARY:BUDDHA PURNIMA: Commemoration of Lord Buddha’s Birth Anniversary
DESCRIPTION:BUDDHA PURNIMA: Commemoration of Lord Buddha’s Birth Anniversary and Undertaking the Ceremony of Aspirational Bodhisattva Vows which will be led by Venerable Geshe Dorji Damdul\, Director\, Tibet House\, Cultural Centre of His Holiness the Dalai Lama\, New Delhi. \n 
URL:https://tibethouse.in/events/buddha-purnima-commemoration-of-lord-buddhas-birth-anniversary/
LOCATION:Tibet House\, New Delhi\, 1\, Lodhi Rd\, Gokalpuri\, Institutional Area\, Lodi Colony\, New Delhi\, 110003\, India
CATEGORIES:Tibet House Event
ORGANIZER;CN="Tibet House%2C Cultural Centre of His Holiness the Dalai Lama":MAILTO:programmes@tibethouse.in
END:VEVENT
BEGIN:VEVENT
DTSTART;TZID=Asia/Kolkata:20230324T180000
DTEND;TZID=Asia/Kolkata:20230324T200000
DTSTAMP:20260423T201911
CREATED:20230307T105034Z
LAST-MODIFIED:20230307T110057Z
UID:4656-1679680800-1679688000@tibethouse.in
SUMMARY:33rd Annual Padmapani Lecture on The Relations Between India and Tibet from 1947 to 1962
DESCRIPTION:Please join us for the 33rd Annual Padmapani Lecture on
URL:https://tibethouse.in/events/33rd-annual-padmapani/
LOCATION:Multipurpose Hall\, India International Centre\, New Delhi
CATEGORIES:Tibet House Event
ORGANIZER;CN="Tibet House%2C Cultural Centre of His Holiness the Dalai Lama":MAILTO:programmes@tibethouse.in
END:VEVENT
BEGIN:VEVENT
DTSTART;TZID=Asia/Kolkata:20221025T180000
DTEND;TZID=Asia/Kolkata:20221025T193000
DTSTAMP:20260423T201911
CREATED:20221019T065006Z
LAST-MODIFIED:20221019T065006Z
UID:4045-1666720800-1666726200@tibethouse.in
SUMMARY:Introduction to Buddhism Teaching Series – Bodhicitta
DESCRIPTION:
URL:https://tibethouse.in/events/introduction-to-buddhism-teaching-series-bodhicitta/
LOCATION:Virtual Event
CATEGORIES:Teachings in English,Tibet House Event
ORGANIZER;CN="Tibet House%2C Cultural Centre of His Holiness the Dalai Lama":MAILTO:programmes@tibethouse.in
END:VEVENT
BEGIN:VEVENT
DTSTART;TZID=Asia/Kolkata:20220726T180000
DTEND;TZID=Asia/Kolkata:20220726T193000
DTSTAMP:20260423T201911
CREATED:20220718T090843Z
LAST-MODIFIED:20220718T090851Z
UID:2818-1658858400-1658863800@tibethouse.in
SUMMARY:Bodhicaryavatara ( Series-1) Chapter 1: Disclosure of Evil - Introduction to Buddhism Teaching Series
DESCRIPTION:Meeting Link: https://bit.ly/3Oh5NNE\nMeeting Number: 2511 703 4142\nPassword: Bodhicitta22\nYoutube Live: https://youtu.be/-1if_qDDEWI
URL:https://tibethouse.in/events/bodhicaryavatara-series-1-chapter-1-disclosure-of-evil-introduction-to-buddhism-teaching-series/
LOCATION:Virtual Event
CATEGORIES:Teachings in English,Tibet House Event
ORGANIZER;CN="Tibet House%2C Cultural Centre of His Holiness the Dalai Lama":MAILTO:programmes@tibethouse.in
END:VEVENT
BEGIN:VEVENT
DTSTART;TZID=Asia/Kolkata:20220706T100000
DTEND;TZID=Asia/Kolkata:20220706T170000
DTSTAMP:20260423T201911
CREATED:20220620T113200Z
LAST-MODIFIED:20220624T104436Z
UID:2740-1657101600-1657126800@tibethouse.in
SUMMARY:Conference on Universal Ethics: The Vision of His Holiness the 14th Dalai Lama for Civilise & Peaceful World
DESCRIPTION:
URL:https://tibethouse.in/events/conference-on-universal-ethics/
LOCATION:CD Deshmukh Auditorium\, India International Centre\, New Delhi\, India
CATEGORIES:Tibet House Event
ORGANIZER;CN="Tibet House%2C Cultural Centre of His Holiness the Dalai Lama":MAILTO:programmes@tibethouse.in
END:VEVENT
BEGIN:VEVENT
DTSTART;TZID=Asia/Kolkata:20220516T060000
DTEND;TZID=Asia/Kolkata:20220516T200000
DTSTAMP:20260423T201911
CREATED:20220427T103814Z
LAST-MODIFIED:20220427T114937Z
UID:2169-1652680800-1652731200@tibethouse.in
SUMMARY:Buddha Purnima & Bodhicitta Day Celebration
DESCRIPTION:Buddha Purnima & Bodhicitta Day Celebration\nIn commemoration of Lord Buddha’s Birth Anniversary\nUndertaking the Ceremony of Aspirational Bodhisattva Pledge With Venerable Geshe Dorji Damdul\, Director\, Tibet House\, Cultural Centre of H. H. the Dalai Lama.\nMeeting Details: \nLink: https://tinyurl.com/purnima2022 \nNumber: 2518 690 7515 \nPassword: Buddha22
URL:https://tibethouse.in/events/buddha-purnima-bodhicitta-day-celebration/
LOCATION:Virtual Event
CATEGORIES:Tibet House Event
ATTACH;FMTTYPE=image/png:https://tibethouse.in/wp-content/uploads/2022/04/Buddha_purnima_poster-e1651060144237.png
ORGANIZER;CN="Tibet House%2C Cultural Centre of His Holiness the Dalai Lama":MAILTO:programmes@tibethouse.in
END:VEVENT
BEGIN:VEVENT
DTSTART;TZID=Asia/Kolkata:20220510T180000
DTEND;TZID=Asia/Kolkata:20220510T193000
DTSTAMP:20260423T201911
CREATED:20220509T043044Z
LAST-MODIFIED:20220509T043044Z
UID:2321-1652205600-1652211000@tibethouse.in
SUMMARY:INTRODUCTION TO BUDDHISM  - Session 3 - Summary of Buddhist Psychology
DESCRIPTION:3rd Session of the 24 teaching series “INTRODUCTION TO BUDDHISM”.\nTOPIC: Summary of Buddhist Psychology\nDATE: Tuesday\, 10th May 2022\nTIME: 06:00 PM – 07:30 PM (IST) \nMeeting Link: https://bit.ly/3saN5zn\nMeeting Number: 25145282684\nPassword: buddha22
URL:https://tibethouse.in/events/introduction-to-buddhism-session-3-summary-of-buddhist-psychology/
LOCATION:Virtual Event
CATEGORIES:Tibet House Event
ORGANIZER;CN="Tibet House%2C Cultural Centre of His Holiness the Dalai Lama":MAILTO:programmes@tibethouse.in
END:VEVENT
BEGIN:VEVENT
DTSTART;TZID=Asia/Kolkata:20220506T180000
DTEND;TZID=Asia/Kolkata:20220506T193000
DTSTAMP:20260423T201911
CREATED:20220427T112214Z
LAST-MODIFIED:20220427T112214Z
UID:2230-1651860000-1651865400@tibethouse.in
SUMMARY:ཚད་མ་རྣམ་འགྲེལ་ལེའུ་གཉིས་པ་སྐྱེ་བ་སྔ་ཕྱིའི་སྐོར་ཚུད་པའི་ཚད་མ་ཡང་དག་པར་གྲུབ་པའི་ལེའུ་བོད་སྐད་ཐོག་བཀའ་ཁྲིད། Teaching on Pramāṇavārttika(Chapter 2): Establishing the Reliable Guide in Tibetan
DESCRIPTION:ཕྱི་ཟླ་ ༡༠ པའི་ཚེས་ ༠༨ ནས་བཟུང་རེས་གཟའ་པ་སངས་ནམ་ཡིན་ལ་རྒྱ་གར་གི་ཕྱི་དྲོ་ཕྱག་ཚོད་ ༠༦:༠༠ ཐོག་ཚད་མ་རྣམ་འགྲེལ་ལེའུ་གཉིས་པ་སྐྱེ་བ་སྔ་ཕྱིའི་སྐོར་ཚུད་པའི་ཚད་མ་ཡང་དག་པར་གྲུབ་པའི་ལེའུ་བོད་སྐད་ཐོག་བཀའ་ཁྲིད་མཛད་རྒྱུ། སློབ་ཁྲིད་པ། ལྡི་ལི་བོད་ཁང་འགན་འཛིན་དགེ་བཤེས་རྡོ་རྗེ་དགྲ་འདུལ་མཆོག \nVenerable Geshe Dorji Damdul will teach on Pramāṇavārttika: by Acharya Dharmakirti (7th Century C.E.) Establishing the Reliable Guide (Chapter 2) Including Logic Behind Rebirth every Friday starting from October 8th\, 2021. \n 
URL:https://tibethouse.in/events/%e0%bd%9a%e0%bd%91%e0%bc%8b%e0%bd%98%e0%bc%8b%e0%bd%a2%e0%be%a3%e0%bd%98%e0%bc%8b%e0%bd%a0%e0%bd%82%e0%be%b2%e0%bd%ba%e0%bd%a3%e0%bc%8b%e0%bd%a3%e0%bd%ba%e0%bd%a0%e0%bd%b4%e0%bc%8b%e0%bd%82%e0%bd%89-2/
LOCATION:Virtual Event
CATEGORIES:Teachings in Tibetan,Tibet House Event
ATTACH;FMTTYPE=image/jpeg:https://tibethouse.in/wp-content/uploads/2022/04/244702968_4290465831065856_72251784920667941_n.jpg
ORGANIZER;CN="Tibet House%2C Cultural Centre of His Holiness the Dalai Lama":MAILTO:programmes@tibethouse.in
END:VEVENT
BEGIN:VEVENT
DTSTART;TZID=Asia/Kolkata:20220503T180000
DTEND;TZID=Asia/Kolkata:20220503T193000
DTSTAMP:20260423T201911
CREATED:20220418T000216Z
LAST-MODIFIED:20220426T053757Z
UID:1286-1651600800-1651606200@tibethouse.in
SUMMARY:Introduction to Buddhism Teaching Series - Buddha Nature by Mr. Deepesh Thakkar
DESCRIPTION:
URL:https://tibethouse.in/events/introduction-to-buddhism-teaching-series-buddha-nature-by-mr-deepesh-thakkar/
LOCATION:Virtual Event
CATEGORIES:Tibet House Event
ORGANIZER;CN="Tibet House%2C Cultural Centre of His Holiness the Dalai Lama":MAILTO:programmes@tibethouse.in
END:VEVENT
BEGIN:VEVENT
DTSTART;TZID=Asia/Kolkata:20220429T180000
DTEND;TZID=Asia/Kolkata:20220429T193000
DTSTAMP:20260423T201911
CREATED:20220426T114037Z
LAST-MODIFIED:20220426T114907Z
UID:2154-1651255200-1651260600@tibethouse.in
SUMMARY:ཚད་མ་རྣམ་འགྲེལ་ལེའུ་གཉིས་པ་སྐྱེ་བ་སྔ་ཕྱིའི་སྐོར་ཚུད་པའི་ཚད་མ་ཡང་དག་པར་གྲུབ་པའི་ལེའུ་བོད་སྐད་ཐོག་བཀའ་ཁྲིད། Teaching on Pramāṇavārttika(Chapter 2): Establishing the Reliable Guide in Tibetan
DESCRIPTION:ཕྱི་ཟླ་ ༡༠ པའི་ཚེས་ ༠༨ ནས་བཟུང་རེས་གཟའ་པ་སངས་ནམ་ཡིན་ལ་རྒྱ་གར་གི་ཕྱི་དྲོ་ཕྱག་ཚོད་ ༠༦:༠༠ ཐོག་ཚད་མ་རྣམ་འགྲེལ་ལེའུ་གཉིས་པ་སྐྱེ་བ་སྔ་ཕྱིའི་སྐོར་ཚུད་པའི་ཚད་མ་ཡང་དག་པར་གྲུབ་པའི་ལེའུ་བོད་སྐད་ཐོག་བཀའ་ཁྲིད་མཛད་རྒྱུ། སློབ་ཁྲིད་པ། ལྡི་ལི་བོད་ཁང་འགན་འཛིན་དགེ་བཤེས་རྡོ་རྗེ་དགྲ་འདུལ་མཆོག \nVenerable Geshe Dorji Damdul will teach on Pramāṇavārttika: by Acharya Dharmakirti (7th Century C.E.) Establishing the Reliable Guide (Chapter 2) Including Logic Behind Rebirth every Friday starting from October 8th\, 2021. \n  \n  \n 
URL:https://tibethouse.in/events/%e0%bd%9a%e0%bd%91%e0%bc%8b%e0%bd%98%e0%bc%8b%e0%bd%a2%e0%be%a3%e0%bd%98%e0%bc%8b%e0%bd%a0%e0%bd%82%e0%be%b2%e0%bd%ba%e0%bd%a3%e0%bc%8b%e0%bd%a3%e0%bd%ba%e0%bd%a0%e0%bd%b4%e0%bc%8b%e0%bd%82%e0%bd%89/
LOCATION:Virtual Event
CATEGORIES:Teachings in Tibetan,Tibet House Event
ATTACH;FMTTYPE=image/jpeg:https://tibethouse.in/wp-content/uploads/2022/04/244702968_4290465831065856_72251784920667941_n.jpg
ORGANIZER;CN="Tibet House%2C Cultural Centre of His Holiness the Dalai Lama":MAILTO:programmes@tibethouse.in
END:VEVENT
BEGIN:VEVENT
DTSTART;TZID=Asia/Kolkata:20220423T190000
DTEND;TZID=Asia/Kolkata:20220423T203000
DTSTAMP:20260423T201911
CREATED:20220411T235252Z
LAST-MODIFIED:20220419T062030Z
UID:1282-1650740400-1650745800@tibethouse.in
SUMMARY:Special Lecture on the book "The Fractured Himalaya: India Tibet China 1949-1962
DESCRIPTION:
URL:https://tibethouse.in/events/1282/
LOCATION:Virtual Event
CATEGORIES:Tibet House Event
ORGANIZER;CN="Tibet House%2C Cultural Centre of His Holiness the Dalai Lama":MAILTO:programmes@tibethouse.in
END:VEVENT
BEGIN:VEVENT
DTSTART;TZID=Asia/Kolkata:20220331T093000
DTEND;TZID=Asia/Kolkata:20220331T110000
DTSTAMP:20260423T201911
CREATED:20220417T235239Z
LAST-MODIFIED:20220419T061923Z
UID:1279-1648719000-1648724400@tibethouse.in
SUMMARY:32nd Padmapani Lecture - The Wisdom of Selflessness and nibbāna
DESCRIPTION:
URL:https://tibethouse.in/events/32nd-padmapani-lecture-the-wisdom-of-selflessness-and-nibbana/
CATEGORIES:Tibet House Event
ORGANIZER;CN="Tibet House%2C Cultural Centre of His Holiness the Dalai Lama":MAILTO:programmes@tibethouse.in
END:VEVENT
BEGIN:VEVENT
DTSTART;TZID=Asia/Kolkata:20220318T180000
DTEND;TZID=Asia/Kolkata:20220318T200000
DTSTAMP:20260423T201911
CREATED:20220228T234731Z
LAST-MODIFIED:20220419T062126Z
UID:1276-1647626400-1647633600@tibethouse.in
SUMMARY:CHO-TRUL-DÜCHEN(ཆོ་འཕྲུལ་དུས་ཆེན་) - the Festival of Miraculas Deeds of Buddha
DESCRIPTION:
URL:https://tibethouse.in/events/cho-trul-duchen%e0%bd%86%e0%bd%bc%e0%bc%8b%e0%bd%a0%e0%bd%95%e0%be%b2%e0%bd%b4%e0%bd%a3%e0%bc%8b%e0%bd%91%e0%bd%b4%e0%bd%a6%e0%bc%8b%e0%bd%86%e0%bd%ba%e0%bd%93%e0%bc%8b-the-festival-of-miraculas-d/
CATEGORIES:Tibet House Event
END:VEVENT
BEGIN:VEVENT
DTSTART;TZID=Asia/Kolkata:20211229T180000
DTEND;TZID=Asia/Kolkata:20211229T193000
DTSTAMP:20260423T201911
CREATED:20211218T234025Z
LAST-MODIFIED:20220419T062156Z
UID:1264-1640800800-1640806200@tibethouse.in
SUMMARY:༄༅། ། དགའ་ལྡན་ལྔ་མཆོད། (GANDEN NGAMCHOE): Observing the Day of Lama Tsongkhapa’s Parinirvana
DESCRIPTION:
URL:https://tibethouse.in/events/%e0%bc%84%e0%bc%85%e0%bc%8d-%e0%bc%8d-%e0%bd%91%e0%bd%82%e0%bd%a0%e0%bc%8b%e0%bd%a3%e0%be%a1%e0%bd%93%e0%bc%8b%e0%bd%a3%e0%be%94%e0%bc%8b%e0%bd%98%e0%bd%86%e0%bd%bc%e0%bd%91%e0%bc%8d-ganden-ngamchoe/
LOCATION:Virtual Event
CATEGORIES:Tibet House Event
ORGANIZER;CN="Tibet House%2C Cultural Centre of His Holiness the Dalai Lama":MAILTO:programmes@tibethouse.in
END:VEVENT
BEGIN:VEVENT
DTSTART;TZID=Asia/Kolkata:20210219T190000
DTEND;TZID=Asia/Kolkata:20210219T203000
DTSTAMP:20260423T201911
CREATED:20220217T234351Z
LAST-MODIFIED:20220419T062220Z
UID:1273-1613761200-1613766600@tibethouse.in
SUMMARY:Spiritual Ecology Lecture - Faith for Ecocide Law
DESCRIPTION:
URL:https://tibethouse.in/events/spiritual-ecology-lecture-faith-for-ecocide-law/
LOCATION:Virtual Event
CATEGORIES:Tibet House Event
ORGANIZER;CN="Tibet House%2C Cultural Centre of His Holiness the Dalai Lama":MAILTO:programmes@tibethouse.in
END:VEVENT
END:VCALENDAR